BEGIN:VCALENDAR
VERSION:2.0
PRODID:-//Kingsbrae Garden - ECPv6.15.17//NONSGML v1.0//EN
CALSCALE:GREGORIAN
METHOD:PUBLISH
X-WR-CALNAME:Kingsbrae Garden
X-ORIGINAL-URL:https://kingsbraegarden.com
X-WR-CALDESC:Events for Kingsbrae Garden
REFRESH-INTERVAL;VALUE=DURATION:PT1H
X-Robots-Tag:noindex
X-PUBLISHED-TTL:PT1H
BEGIN:VTIMEZONE
TZID:America/Moncton
BEGIN:DAYLIGHT
TZOFFSETFROM:-0400
TZOFFSETTO:-0300
TZNAME:ADT
DTSTART:20250309T060000
END:DAYLIGHT
BEGIN:STANDARD
TZOFFSETFROM:-0300
TZOFFSETTO:-0400
TZNAME:AST
DTSTART:20251102T050000
END:STANDARD
BEGIN:DAYLIGHT
TZOFFSETFROM:-0400
TZOFFSETTO:-0300
TZNAME:ADT
DTSTART:20260308T060000
END:DAYLIGHT
BEGIN:STANDARD
TZOFFSETFROM:-0300
TZOFFSETTO:-0400
TZNAME:AST
DTSTART:20261101T050000
END:STANDARD
BEGIN:DAYLIGHT
TZOFFSETFROM:-0400
TZOFFSETTO:-0300
TZNAME:ADT
DTSTART:20270314T060000
END:DAYLIGHT
BEGIN:STANDARD
TZOFFSETFROM:-0300
TZOFFSETTO:-0400
TZNAME:AST
DTSTART:20271107T050000
END:STANDARD
END:VTIMEZONE
BEGIN:VEVENT
DTSTART;TZID=America/Moncton:20260822T140000
DTEND;TZID=America/Moncton:20260822T151000
DTSTAMP:20260424T223158
CREATED:20260106T180350Z
LAST-MODIFIED:20260106T180350Z
UID:10003200-1787407200-1787411400@kingsbraegarden.com
SUMMARY:5th Anniversary Broadway by the Sea - Musical Revue Concert
DESCRIPTION:Celebrate five incredible years of Broadway magic in St. Andrews-by-the-Sea! Our 5th Anniversary Broadway Musical Revue Concert\, led by New Brunswick’s own Tony LePage (Come From Away\, Rock of Ages)\, brings together an electrifying cast of current Broadway stars alongside standout New Brunswick talent. With live musicians\, powerhouse vocals\, and iconic songs from Broadway’s biggest blockbusters\, this anniversary concert is a must-see summer tradition in St. Andrews. \nGet your tickets now by clicking HERE! \n  \n 
URL:https://kingsbraegarden.com/event/5th-anniversary-broadway-by-the-sea-musical-revue-concert/2026-08-22/1/
LOCATION:KIRA Amphitheatre\, 130 Prince of Wales Street\, St. Andrews\, New Brunswick\, E5B 1R3\, Canada
ATTACH;FMTTYPE=image/png:https://kingsbraegarden.com/wp-content/uploads/2025/12/Broadway-Image.png
GEO:45.08056;-67.05055
X-APPLE-STRUCTURED-LOCATION;VALUE=URI;X-ADDRESS=KIRA Amphitheatre 130 Prince of Wales Street St. Andrews New Brunswick E5B 1R3 Canada;X-APPLE-RADIUS=500;X-TITLE=130 Prince of Wales Street:geo:-67.05055,45.08056
END:VEVENT
BEGIN:VEVENT
DTSTART;TZID=America/Moncton:20260822T190000
DTEND;TZID=America/Moncton:20260822T201000
DTSTAMP:20260424T223158
CREATED:20260106T180350Z
LAST-MODIFIED:20260106T180350Z
UID:10003201-1787425200-1787429400@kingsbraegarden.com
SUMMARY:5th Anniversary Broadway by the Sea - Musical Revue Concert
DESCRIPTION:Celebrate five incredible years of Broadway magic in St. Andrews-by-the-Sea! Our 5th Anniversary Broadway Musical Revue Concert\, led by New Brunswick’s own Tony LePage (Come From Away\, Rock of Ages)\, brings together an electrifying cast of current Broadway stars alongside standout New Brunswick talent. With live musicians\, powerhouse vocals\, and iconic songs from Broadway’s biggest blockbusters\, this anniversary concert is a must-see summer tradition in St. Andrews. \nGet your tickets now by clicking HERE! \n  \n 
URL:https://kingsbraegarden.com/event/5th-anniversary-broadway-by-the-sea-musical-revue-concert/2026-08-22/2/
LOCATION:KIRA Amphitheatre\, 130 Prince of Wales Street\, St. Andrews\, New Brunswick\, E5B 1R3\, Canada
ATTACH;FMTTYPE=image/png:https://kingsbraegarden.com/wp-content/uploads/2025/12/Broadway-Image.png
GEO:45.08056;-67.05055
X-APPLE-STRUCTURED-LOCATION;VALUE=URI;X-ADDRESS=KIRA Amphitheatre 130 Prince of Wales Street St. Andrews New Brunswick E5B 1R3 Canada;X-APPLE-RADIUS=500;X-TITLE=130 Prince of Wales Street:geo:-67.05055,45.08056
END:VEVENT
END:VCALENDAR